BEGIN:VCALENDAR
VERSION:2.0
PRODID:gruene-nuthetal.de
METHOD:PUBLISH
BEGIN:VTIMEZONE
TZID:Europe/Berlin
X-LIC-LOCATION:Europe/Berlin
BEGIN:DAYLIGHT
TZOFFSETFROM:+0100
TZOFFSETTO:+0200
TZNAME:CEST
DTSTART:19700329T020000
RRULE:FREQ=YEARLY;INTERVAL=1;BYDAY=-1SU;BYMONTH=3
END:DAYLIGHT
BEGIN:STANDARD
TZOFFSETFROM:+0200
TZOFFSETTO:+0100
TZNAME:CET
DTSTART:19701025T030000
RRULE:FREQ=YEARLY;INTERVAL=1;BYDAY=-1SU;BYMONTH=10
END:STANDARD
END:VTIMEZONE
BEGIN:VEVENT
UID:06e7d09c48a23a4c78ab63faa624f4ea@gruene-nuthetal.de
URL;VALUE=URI:https://gruene-nuthetal.de/termine/buergermeisterwahl-nuthe
 tal/
LOCATION:14558 Nuthetal
SUMMARY:Bürgermeisterwahl Nuthetal
DESCRIPTION;ALTREP="data:text/html,%0A%3Cp%3EAm%2010.Mai%202026%20ist%20e
 s%20soweit%2C%20ein%20neuer%20B%C3%BCrgermeister%20wird%20gew%C3%A4hlt.%2
 0Es%20stehen%20drei%20Kandidaten%20zur%20Wahl.%3C%2Fp%3E%0A%0A%0A%0A%3Cp%
 3EAuf%20%20unserer%20Mitgliederversammlung%20am%2018.%20Februar%202026%20
 haben%20wir%20von%20B%C3%BCndnis%2090%20%2F%20Die%20Gr%C3%BCnen%20gemeins
 am%20beschlossen%2C%20dass%20wir%20den%20Kandidaten%20Dr.%20Stefan%20Schn
 eider%20offiziell%20unterst%C3%BCtzen%20wollen.%20Viele%20von%20uns%20ken
 nen%20und%20sch%C3%A4tzen%20Dr.Schneider%20aus%20seiner%20jahrelangen%20e
 hrenamtlichen%20Arbeit%20f%C3%BCr%20den%20Klima-Stammtisch%20und%20den%20
 Nachhaltigkeitsbeirat%20Nuthetal.%20Er%20ist%20in%20unseren%20Augen%20der
 %20einzige%20Kandidat%2C%20der%20klar%20den%20Anspruch%20hat%2C%20Klima-%
 20und%20Nachhaltigkeitsthemen%20zusammen%20mit%20echter%20B%C3%BCrger%2Ai
 nnenbeteiligung%20in%20Nuthetal%20voranzubringen.%20%3C%2Fp%3E%0A%0A%0A%0
 A%3Cp%3EWer%20mehr%20%C3%BCber%20ihn%20erfahren%20m%C3%B6chte%2C%20kann%2
 0sich%20gerne%20auf%20seiner%20Seite%20umschauen%3A%3Cbr%3E%3Ca%20href%3D
 %22http%3A%2F%2Fwww.stefan-schneider-fuer-nuthetal.de%22%20data-type%3D%2
 2link%22%20data-id%3D%22www.stefan-schneider-fuer-nuthetal.de%22%20target
 %3D%22_blank%22%20rel%3D%22noreferrer%20noopener%22%3Estefan-schneider-fu
 er-nuthetal.de%3C%2Fa%3E%3C%2Fp%3E%0A%0A%0A%0A%3Cp%3EWahltermin%3A%2010.M
 ail%202026%3Cbr%3EStichwahl%3A%2031.%20Mai%202026%3C%2Fp%3E%0A":Am 10.Mai
  2026 ist es soweit\, ein neuer Bürgermeister wird gewählt. Es stehen d
 rei Kandidaten zur Wahl.\n\nAuf  unserer Mitgliederversammlung am 18. Feb
 ruar 2026 haben wir von Bündnis 90 / Die Grünen gemeinsam beschlossen\,
  dass wir den Kandidaten Dr. Stefan Schneider offiziell unterstützen wol
 len. Viele von uns kennen und schätzen Dr.Schneider aus seiner jahrelang
 en ehrenamtlichen Arbeit für den Klima-Stammtisch und den Nachhaltigkeit
 sbeirat Nuthetal. Er ist in unseren Augen der einzige Kandidat\, der klar
  den Anspruch hat\, Klima- und Nachhaltigkeitsthemen zusammen mit echter 
 Bürger*innenbeteiligung in Nuthetal voranzubringen.\n\nWer mehr über ih
 n erfahren möchte\, kann sich gerne auf seiner Seite umschauen:stefan-sc
 hneider-fuer-nuthetal.de\n\nWahltermin: 10.Mail 2026Stichwahl: 31. Mai 20
 26
CLASS:PUBLIC
DTSTART;TZID=Europe/Berlin:20260510
DTEND;TZID=Europe/Berlin:20260511
DTSTAMP:20260423T110032
END:VEVENT
END:VCALENDAR