BEGIN:VCALENDAR
VERSION:2.0
PRODID:gruene-nuthetal.de
METHOD:PUBLISH
BEGIN:VTIMEZONE
TZID:Europe/Berlin
X-LIC-LOCATION:Europe/Berlin
BEGIN:DAYLIGHT
TZOFFSETFROM:+0100
TZOFFSETTO:+0200
TZNAME:CEST
DTSTART:19700329T020000
RRULE:FREQ=YEARLY;INTERVAL=1;BYDAY=-1SU;BYMONTH=3
END:DAYLIGHT
BEGIN:STANDARD
TZOFFSETFROM:+0200
TZOFFSETTO:+0100
TZNAME:CET
DTSTART:19701025T030000
RRULE:FREQ=YEARLY;INTERVAL=1;BYDAY=-1SU;BYMONTH=10
END:STANDARD
END:VTIMEZONE
BEGIN:VEVENT
UID:b6c733c04064640b5058b5ffdea0ed8d@gruene-nuthetal.de
URL;VALUE=URI:https://gruene-nuthetal.de/termine/buergermeisterwahl-nuthe
 tal-stichwahl/
LOCATION:14558 Nuthetal
SUMMARY:Bürgermeisterwahl Nuthetal — Stichwahl
DESCRIPTION;ALTREP="data:text/html,%0A%3Cp%3EAm%2010.Mai%202026%20ist%20e
 s%20soweit%2C%20ein%20neuer%20B%C3%BCrgermeister%20wird%20gew%C3%A4hlt.%2
 0Es%20stehen%20drei%20Kandidaten%20zur%20Wahl.%3Cbr%3EFalls%20keiner%20de
 r%20drei%20Kandidaten%20im%20ersten%20Wahlgang%20die%20absolute%20Mehrhei
 t%20erreicht%2C%20findet%20am%2031.%20Mai%202026%20die%20Stichwahl%20stat
 t.%3C%2Fp%3E%0A%0A%0A%0A%3Cp%3EAuf%20%20unserer%20Mitgliederversammlung%2
 0am%2018.%20Februar%202026%20haben%20wir%20von%20B%C3%BCndnis%2090%20%2F%
 20Die%20Gr%C3%BCnen%20gemeinsam%20beschlossen%2C%20dass%20wir%20den%20Kan
 didaten%20Dr.%20Stefan%20Schneider%20offiziell%20unterst%C3%BCtzen%20woll
 en.%20Viele%20von%20uns%20kennen%20und%20sch%C3%A4tzen%20Dr.Schneider%20a
 us%20seiner%20jahrelangen%20ehrenamtlichen%20Arbeit%20f%C3%BCr%20den%20Kl
 ima-Stammtisch%20und%20den%20Nachhaltigkeitsbeirat%20Nuthetal.%20Er%20ist
 %20in%20unseren%20Augen%20der%20einzige%20Kandidat%2C%20der%20klar%20den%
 20Anspruch%20hat%2C%20Klima-%20und%20Nachhaltigkeitsthemen%20zusammen%20m
 it%20echter%20B%C3%BCrger%2Ainnenbeteiligung%20in%20Nuthetal%20voranzubri
 ngen.%20%3C%2Fp%3E%0A%0A%0A%0A%3Cp%3EWer%20mehr%20%C3%BCber%20ihn%20erfah
 ren%20m%C3%B6chte%2C%20kann%20sich%20gerne%20auf%20seiner%20Seite%20umsch
 auen%3A%3Cbr%3E%3Ca%20href%3D%22http%3A%2F%2Fwww.stefan-schneider-fuer-nu
 thetal.de%22%20data-type%3D%22link%22%20data-id%3D%22www.stefan-schneider
 -fuer-nuthetal.de%22%20target%3D%22_blank%22%20rel%3D%22noreferrer%20noop
 ener%22%3Estefan-schneider-fuer-nuthetal.de%3C%2Fa%3E%3C%2Fp%3E%0A%0A%0A%
 0A%3Cp%3EWahltermin%3A%2010.Mail%202026%3Cbr%3EStichwahl%3A%2031.%20Mai%2
 02026%3C%2Fp%3E%0A":Am 10.Mai 2026 ist es soweit\, ein neuer Bürgermeist
 er wird gewählt. Es stehen drei Kandidaten zur Wahl.Falls keiner der dre
 i Kandidaten im ersten Wahlgang die absolute Mehrheit erreicht\, findet a
 m 31. Mai 2026 die Stichwahl statt.\n\nAuf  unserer Mitgliederversammlung
  am 18. Februar 2026 haben wir von Bündnis 90 / Die Grünen gemeinsam be
 schlossen\, dass wir den Kandidaten Dr. Stefan Schneider offiziell unters
 tützen wollen. Viele von uns kennen und schätzen Dr.Schneider aus seine
 r jahrelangen ehrenamtlichen Arbeit für den Klima-Stammtisch und den Nac
 hhaltigkeitsbeirat Nuthetal. Er ist in unseren Augen der einzige Kandidat
 \, der klar den Anspruch hat\, Klima- und Nachhaltigkeitsthemen zusammen 
 mit echter Bürger*innenbeteiligung in Nuthetal voranzubringen.\n\nWer me
 hr über ihn erfahren möchte\, kann sich gerne auf seiner Seite umschaue
 n:stefan-schneider-fuer-nuthetal.de\n\nWahltermin: 10.Mail 2026Stichwahl:
  31. Mai 2026
CLASS:PUBLIC
DTSTART;TZID=Europe/Berlin:20260531
DTEND;TZID=Europe/Berlin:20260601
DTSTAMP:20260423T110032
END:VEVENT
END:VCALENDAR